BEGIN:VCALENDAR
VERSION:2.0
PRODID:-//hacksw/handcal//NONSGML v1.0//EN
BEGIN:VEVENT
DTSTART:20260423T183000
DTEND:20260423T210000
LOCATION:Maison Dufour \n9A Rue des Contamines \n1206 Genève
ORGANIZER;CN=André HUON - Groupe Suisse:MAILTO:huon@bluewin.ch
SUMMARY:Soirée-conférence sur l'évolution des mathématiques
DESCRIPTION:En association avec les Salons du Général Dufour & En collaboration avec la Section Mathématiques du Département des Sciences de l'Université de Genève300 ans de mathématiquesLe Groupe Suisse propose ...
URL:https://www.aiesme.org/en/group/groupe-suisse/51/calendar/soiree-conference-sur-l-evolution-des-mathematiques/2026/04/23/1068
BEGIN:VALARM
TRIGGER:-P0DT1H0M0S
ACTION:DISPLAY
END:VALARM
END:VEVENT
END:VCALENDAR