BEGIN:VCALENDAR
VERSION:2.0
PRODID:-//hacksw/handcal//NONSGML v1.0//EN
BEGIN:VEVENT
DTSTART:20170701T100000
DTEND:20170701T180000
LOCATION:REIMS \nPlace de la Cathédrale \n51100 Reims
ORGANIZER;CN=Patrick PANTOSTIER:MAILTO:patrick.pantostier@gmail.com
SUMMARY:Sortie culturelle à REIMS
DESCRIPTION:\nChristophe Peter nous propose de le retrouver en ce 1er juillet dans cette ville de la Champagne qui est surnommée « la cité des sacres » ou « la cité des rois».\nEn effet, c'est à Reims que Clovis ...
URL:https://www.aiesme.org/en/event/sortie-culturelle-a-reims/2017/07/01/111
BEGIN:VALARM
TRIGGER:-P0DT1H0M0S
ACTION:DISPLAY
END:VALARM
END:VEVENT
END:VCALENDAR