BEGIN:VCALENDAR
VERSION:2.0
PRODID:-//hacksw/handcal//NONSGML v1.0//EN
BEGIN:VEVENT
DTSTART:20190117T183000
DTEND:20190117T210000
LOCATION:Maison des ESME \n45, Rue de Croulebarbe \n75013 PARIS
ORGANIZER;CN=Karine GESBERT:MAILTO:infos@aiesme.org
SUMMARY:Voeux et Cérémonie de remise des Bourses de la Fondation
DESCRIPTION:Olivier DESTANG, Président de l'Association Ingénieurs ESME Sudria,\net les membres du Bureau de l'Association\nont le plaisir de vous inviter, avec votre conjoint,\n \n \nà la présentation des Vœux...
URL:https://www.aiesme.org/en/event/voeux-et-ceremonie-de-remise-des-bourses-de-la-fondation/2019/01/17/242
BEGIN:VALARM
TRIGGER:-P0DT1H0M0S
ACTION:DISPLAY
END:VALARM
END:VEVENT
END:VCALENDAR