BEGIN:VCALENDAR
VERSION:2.0
PRODID:-//hacksw/handcal//NONSGML v1.0//EN
BEGIN:VEVENT
DTSTART:20191121T140000
DTEND:20191121T170000
LOCATION:Maison des Associations \n22, Rue Deparcieux \n75014 PARIS
ORGANIZER;CN=Yves VERDET:MAILTO:yves.verdet@cegetel.net
SUMMARY:Identifiez vos compétences transférables : atelier par le Réseau Primaveras
DESCRIPTION:\nOPÉRER UNE MOBILITÉ PROFESSIONNELLE  VERS UN NOUVEAU MÉTIER ?\nQuel est mon capital de compétences transférables?\nSouvent se pose la question de mieux se connaître pour savoir vers quels métiers se...
URL:https://www.aiesme.org/en/event/identifiez-vos-competences-transferables-atelier-par-le-reseau-primaveras/2019/11/21/325
BEGIN:VALARM
TRIGGER:-P0DT1H0M0S
ACTION:DISPLAY
END:VALARM
END:VEVENT
END:VCALENDAR