BEGIN:VCALENDAR
VERSION:2.0
PRODID:-//hacksw/handcal//NONSGML v1.0//EN
BEGIN:VEVENT
DTSTART:20170322T083000
DTEND:20170322T100000
LOCATION:IESF-Paris \n7 rue Lamennais \n75008 PARIS
ORGANIZER;CN=Yves VERDET:MAILTO:yves.verdet@cegetel.net
SUMMARY:Rencontre avec Denis Ranque proposée par le Club Lamennais (IESF)
DESCRIPTION:\nDenis RANQUE, Président du Conseil d'Administration d'Airbus Group, abordera avec nous le thème de la gouvernance d'entreprise.\nLa conférence et les débats seront animés par Nicolas Fournier,...
URL:https://www.aiesme.org/en/event/rencontre-avec-denis-ranque-proposee-par-le-club-lamennais-iesf/2017/03/22/61
BEGIN:VALARM
TRIGGER:-P0DT1H0M0S
ACTION:DISPLAY
END:VALARM
END:VEVENT
END:VCALENDAR