BEGIN:VCALENDAR
VERSION:2.0
PRODID:-//hacksw/handcal//NONSGML v1.0//EN
BEGIN:VEVENT
DTSTART:20230309T193000
DTEND:20230309T210000
LOCATION:Maison des ESME \n45 rue de Croulebarbe \n75013 Paris
ORGANIZER;CN=Yves VERDET:MAILTO:yves.verdet@cegetel.net
SUMMARY:Airbus du début à nos jours par Gérard Guyot (59)
DESCRIPTION:L'histoire d'Airbus du début à nos jours(la révolution technologique de l'A320, les vols d'essai et les recherches sur l'aviation décarbonée)  Une conférence de Gérard GUYOT (59)*(pilote d'essai qui a...
URL:https://www.aiesme.org/en/event/airbus-du-debut-a-nos-jours-par-gerard-guyot-59/2023/03/09/682
BEGIN:VALARM
TRIGGER:-P0DT1H0M0S
ACTION:DISPLAY
END:VALARM
END:VEVENT
END:VCALENDAR