BEGIN:VCALENDAR
VERSION:2.0
PRODID:-//hacksw/handcal//NONSGML v1.0//EN
BEGIN:VEVENT
DTSTART:20260504T170000
DTEND:20260504T210000
LOCATION:Université de Berne \nSidlerstrasse 5 \n3012 BERNE
ORGANIZER;CN=André HUON - Groupe Suisse:MAILTO:huon@bluewin.ch
SUMMARY:Soirée scientifique franco-suisse
DESCRIPTION:Le Groupe Suisse a le plaisir de partager à l'ensemble de notre réseau AIESME l'invitation reçue de l'Ambassade de France en Suisseà cette soirée scientifique " Explorer l'univers, transformer la...
URL:https://www.aiesme.org/fr/group/groupe-suisse/51/calendar/soiree-scientifique-franco-suisse/2026/05/04/1071
BEGIN:VALARM
TRIGGER:-P0DT1H0M0S
ACTION:DISPLAY
END:VALARM
END:VEVENT
END:VCALENDAR