BEGIN:VCALENDAR
VERSION:2.0
PRODID:-//hacksw/handcal//NONSGML v1.0//EN
BEGIN:VEVENT
DTSTART:20260427T180000
DTEND:20260427T203000
LOCATION:IESF Paris \n7, Rue Lamennais \n75008 PARIS
ORGANIZER;CN=Yves VERDET:MAILTO:yves.verdet@cegetel.net
SUMMARY:«RENDRE LE LUXE DE L’HOTELLERIE ET DE LA GASTRONOMIE ACCESSIBLE ET ECOLOGIQUE
DESCRIPTION:RENDRE LE LUXE DE L’HOTELLERIE ET DE LA GASTRONOMIE ACCESSIBLE ET ECOLOGIQUEConférence gratuite le Lundi 27 avril 2026 18 heures à Paris 8ème- en présentiel au siège d’IESF - 7 rue Lamennais Paris...
URL:https://www.aiesme.org/fr/event/-rendre-le-luxe-de-l-hotellerie-et-de-la-gastronomie-accessible-et-ecologique/2026/04/27/1072
BEGIN:VALARM
TRIGGER:-P0DT1H0M0S
ACTION:DISPLAY
END:VALARM
END:VEVENT
END:VCALENDAR