BEGIN:VCALENDAR
VERSION:2.0
PRODID:-//hacksw/handcal//NONSGML v1.0//EN
BEGIN:VEVENT
DTSTART:20171201T173000
DTEND:20171201T200000
LOCATION:ESME campus de Lille \n60, Boulevard de la Liberté \n59800 LILLE
ORGANIZER;CN=Guy LERISSON:MAILTO:guy.lerisson@allsatcomint.com
SUMMARY:La Région Nord vous invite à sa "rencontre Ingénieurs-Etudiants" dans les locaux de l'école
DESCRIPTION:\nSussus du Nord venez rencontrer les étudiants de l'ESME de Lille, et partager un pot convivial.\nUne soirée à ne pas manquer dans les locaux de l'Ecole car c'est aussi une occasion d'échanger entre ...
URL:https://www.aiesme.org/fr/event/la-region-nord-vous-invite-a-sa-rencontre-ingenieurs-etudiants-dans-les-locaux-de-l-ecole/2017/12/01/154
BEGIN:VALARM
TRIGGER:-P0DT1H0M0S
ACTION:DISPLAY
END:VALARM
END:VEVENT
END:VCALENDAR