BEGIN:VCALENDAR
VERSION:2.0
PRODID:-//hacksw/handcal//NONSGML v1.0//EN
BEGIN:VEVENT
DTSTART:20171202T100000
DTEND:20171207T180000
LOCATION:Maison des ESME \n45, Rue de Croulebarbe \n75013 PARIS
ORGANIZER;CN=Yves VERDET:MAILTO:yves.verdet@cegetel.net
SUMMARY:ATELIER Découverte de sa personnalité
DESCRIPTION:\nVenez à cet atelier pour découvrir votre type de personnalité avec le MBTI et ainsi comprendre pourquoi vous fonctionnez bien avec certaines personnes et moins bien avec d'autres. Cet atelier sera...
URL:https://www.aiesme.org/fr/event/atelier-decouverte-de-sa-personnalite/2017/12/02/157
BEGIN:VALARM
TRIGGER:-P0DT1H0M0S
ACTION:DISPLAY
END:VALARM
END:VEVENT
END:VCALENDAR