BEGIN:VCALENDAR
VERSION:2.0
PRODID:-//hacksw/handcal//NONSGML v1.0//EN
BEGIN:VEVENT
DTSTART:20180115T150000
DTEND:20180115T180000
LOCATION:•Au hasard ludique  \n18, Avenue de Saint-Ouen \n75018 PARIS-18E-ARRONDISSEMENT
ORGANIZER;CN=Yves VERDET:MAILTO:yves.verdet@cegetel.net
SUMMARY:Venez activer l’écosystème énergétique français : Journée de coordination
DESCRIPTION:\n \n \nNetworking facilité et visual board des acteurs en présence\nConstitution des équipes par besoins / problématiques\nDéfinition des priorités et retour d'expériences / terrain (partage...
URL:https://www.aiesme.org/fr/event/venez-activer-l-ecosysteme-energetique-francais-journee-de-coordination/2018/01/15/168
BEGIN:VALARM
TRIGGER:-P0DT1H0M0S
ACTION:DISPLAY
END:VALARM
END:VEVENT
END:VCALENDAR