BEGIN:VCALENDAR
VERSION:2.0
PRODID:-//hacksw/handcal//NONSGML v1.0//EN
BEGIN:VEVENT
DTSTART:20190119T100000
DTEND:20190119T170500
LOCATION:Campus ESME Sudria (Paris Montparnasse, Bordeaux, Lille) \n40 rue du Dr Roux \n75015 PARIS
ORGANIZER;CN=Olivier DESTANG:MAILTO:olivier.destang@gmail.com
SUMMARY:Journée portes ouvertes sur les campus de l'ESME Sudria
DESCRIPTION:Encore une occasion à ne pas manquer pour rencontrer des élèves, pour partager son expérience avec de futurs Ingénieurs, parler du Grand Réseau des Sussus voire pour voir ou revoir les locaux de...
URL:https://www.aiesme.org/fr/event/journee-portes-ouvertes-sur-les-campus-de-l-esme-sudria/2019/01/19/239
BEGIN:VALARM
TRIGGER:-P0DT1H0M0S
ACTION:DISPLAY
END:VALARM
END:VEVENT
END:VCALENDAR