BEGIN:VCALENDAR
VERSION:2.0
PRODID:-//hacksw/handcal//NONSGML v1.0//EN
BEGIN:VEVENT
DTSTART:20200520T110000
DTEND:20200520T120000
LOCATION:https://app.livestorm.co/news-tank
ORGANIZER;CN=Yves VERDET:MAILTO:yves.verdet@cegetel.net
SUMMARY:Retour sur la mise en place du "digital learning" suite au covid 19
DESCRIPTION:Webinaire "Digital Learning : quels premiers retours pédagogiques ?" \n \n S'inscrire au webinaire \n \nLe passage au Digital Learning a été aussi brutal que massif pour les établissements...
URL:https://www.aiesme.org/fr/event/retour-sur-la-mise-en-place-du-digital-learning-suite-au-covid-19/2020/05/20/389
BEGIN:VALARM
TRIGGER:-P0DT1H0M0S
ACTION:DISPLAY
END:VALARM
END:VEVENT
END:VCALENDAR