BEGIN:VCALENDAR
VERSION:2.0
PRODID:-//hacksw/handcal//NONSGML v1.0//EN
BEGIN:VEVENT
DTSTART:20210216T093000
DTEND:20210216T110000
LOCATION:
ORGANIZER;CN=Yves VERDET:MAILTO:yves.verdet@cegetel.net
SUMMARY:Indice de perception de la corruption 2021
DESCRIPTION:Invitation - Webinaire Corruption internationale - Transparency France \n Depuis 1995, Transparency International publie chaque année son indice de perception de la corruption (IPC),  un classement de...
URL:https://www.aiesme.org/fr/event/indice-de-perception-de-la-corruption-2021/2021/02/16/435
BEGIN:VALARM
TRIGGER:-P0DT1H0M0S
ACTION:DISPLAY
END:VALARM
END:VEVENT
END:VCALENDAR