BEGIN:VCALENDAR
VERSION:2.0
PRODID:-//hacksw/handcal//NONSGML v1.0//EN
BEGIN:VEVENT
DTSTART:20221124T203000
DTEND:20221124T220000
LOCATION:Chambre de Commerce et d’Industrie du Territoire de Belfort \n1, Rue Fréry
ORGANIZER;CN=Henri DE BARBEYRAC:MAILTO:henri.debarbeyrac@outlook.fr
SUMMARY:Conférence : « BATIMENTS : face à la transition énergétique et environnementale, des solutions ! »
DESCRIPTION:Conférence annuelle ouverte au « Grand Public », organisée par le Pavillon des Sciences, la CCI du Territoire de Belfort, les INSA et IESF BFC .Ingénieurs et Scientifiques de France, INSA en...
URL:https://www.aiesme.org/fr/event/conference-batiments-face-a-la-transition-energetique-et-environnementale-des-solutions/2022/11/24/647
BEGIN:VALARM
TRIGGER:-P0DT1H0M0S
ACTION:DISPLAY
END:VALARM
END:VEVENT
END:VCALENDAR